BEGIN:VCALENDAR
VERSION:2.0
PRODID:-//NSCA - ECPv6.15.20//NONSGML v1.0//EN
CALSCALE:GREGORIAN
METHOD:PUBLISH
X-WR-CALNAME:NSCA
X-ORIGINAL-URL:https://www.nsca.org
X-WR-CALDESC:Events for NSCA
REFRESH-INTERVAL;VALUE=DURATION:PT1H
X-Robots-Tag:noindex
X-PUBLISHED-TTL:PT1H
BEGIN:VTIMEZONE
TZID:America/Chicago
BEGIN:DAYLIGHT
TZOFFSETFROM:-0600
TZOFFSETTO:-0500
TZNAME:CDT
DTSTART:20240310T080000
END:DAYLIGHT
BEGIN:STANDARD
TZOFFSETFROM:-0500
TZOFFSETTO:-0600
TZNAME:CST
DTSTART:20241103T070000
END:STANDARD
BEGIN:DAYLIGHT
TZOFFSETFROM:-0600
TZOFFSETTO:-0500
TZNAME:CDT
DTSTART:20250309T080000
END:DAYLIGHT
BEGIN:STANDARD
TZOFFSETFROM:-0500
TZOFFSETTO:-0600
TZNAME:CST
DTSTART:20251102T070000
END:STANDARD
BEGIN:DAYLIGHT
TZOFFSETFROM:-0600
TZOFFSETTO:-0500
TZNAME:CDT
DTSTART:20260308T080000
END:DAYLIGHT
BEGIN:STANDARD
TZOFFSETFROM:-0500
TZOFFSETTO:-0600
TZNAME:CST
DTSTART:20261101T070000
END:STANDARD
END:VTIMEZONE
BEGIN:VEVENT
DTSTART;TZID=America/Chicago:20251021T130000
DTEND;TZID=America/Chicago:20251021T140000
DTSTAMP:20260420T040206
CREATED:20251017T141712Z
LAST-MODIFIED:20251017T141907Z
UID:15161-1761051600-1761055200@www.nsca.org
SUMMARY:Audio-Technica presents free webinar: The Truth About 2.4 GHz Wireless
DESCRIPTION:The Truth About 2.4 GHz Wireless \n\n\n\nFrom Doubt to Dependability \n\n\n\nJoin our Director of Commercial Applications\, Mark Donovan\, along with members of our Product Development team\, for a real-world demonstration of System 20 PRO and how it succeeds in crowded RF environments. Learn how A-T’s unique approach to 2.4 GHz spectrum is changing doubt to dependability.
URL:https://www.nsca.org/events-calendar/audio-technica-presents-free-webinar-the-truth-about-2-4-ghz-wireless/
CATEGORIES:Manufacturer Event
ATTACH;FMTTYPE=image/png:https://www.nsca.org/wp-content/uploads/2024/06/logo_audio-technica-600x315-1.png
ORGANIZER;CN="Audio-Technica":MAILTO:jbobek@atus.com
END:VEVENT
BEGIN:VEVENT
DTSTART;VALUE=DATE:20251019
DTEND;VALUE=DATE:20251022
DTSTAMP:20260420T040206
CREATED:20250130T141449Z
LAST-MODIFIED:20250130T141449Z
UID:11026-1760832000-1761091199@www.nsca.org
SUMMARY:Digital Signage Experience (DSE)
DESCRIPTION:The Ultimate Gathering of Digital Signage Experts\n  \nThe experts\, the tech\, the ideas.\nExperience it.\n\n\n\n\n\n\n\n\nA full 360 of digital signage: from the front-end wow to the behind the scenes how. \nDigital Signage ExperienceTM  explores every aspect of digital and interactive display technology\, from concept and design to content and analytics. \nNo matter what business you’re in or where you are on the adoption curve\, DSE caters to your needs right now\, providing access to leading vendors of digital display\, interactive technology and content solutions.   \n\n\n\n\n\nRead the Announcement
URL:https://www.nsca.org/events-calendar/digital-signage-experience-dse/
LOCATION:Hilton San Diego Bayfront\, 1 Park Blvd\, San Diego\, CA\, 92101\, United States
CATEGORIES:Industry Event
ATTACH;FMTTYPE=image/jpeg:https://www.nsca.org/wp-content/uploads/2025/01/DSE_1000x500.jpg
END:VEVENT
END:VCALENDAR