BEGIN:VCALENDAR
VERSION:2.0
PRODID:-//NSCA - ECPv6.15.20//NONSGML v1.0//EN
CALSCALE:GREGORIAN
METHOD:PUBLISH
X-WR-CALNAME:NSCA
X-ORIGINAL-URL:https://www.nsca.org
X-WR-CALDESC:Events for NSCA
REFRESH-INTERVAL;VALUE=DURATION:PT1H
X-Robots-Tag:noindex
X-PUBLISHED-TTL:PT1H
BEGIN:VTIMEZONE
TZID:America/Chicago
BEGIN:DAYLIGHT
TZOFFSETFROM:-0600
TZOFFSETTO:-0500
TZNAME:CDT
DTSTART:20240310T080000
END:DAYLIGHT
BEGIN:STANDARD
TZOFFSETFROM:-0500
TZOFFSETTO:-0600
TZNAME:CST
DTSTART:20241103T070000
END:STANDARD
BEGIN:DAYLIGHT
TZOFFSETFROM:-0600
TZOFFSETTO:-0500
TZNAME:CDT
DTSTART:20250309T080000
END:DAYLIGHT
BEGIN:STANDARD
TZOFFSETFROM:-0500
TZOFFSETTO:-0600
TZNAME:CST
DTSTART:20251102T070000
END:STANDARD
BEGIN:DAYLIGHT
TZOFFSETFROM:-0600
TZOFFSETTO:-0500
TZNAME:CDT
DTSTART:20260308T080000
END:DAYLIGHT
BEGIN:STANDARD
TZOFFSETFROM:-0500
TZOFFSETTO:-0600
TZNAME:CST
DTSTART:20261101T070000
END:STANDARD
END:VTIMEZONE
BEGIN:VEVENT
DTSTART;TZID=America/Chicago:20251202T130000
DTEND;TZID=America/Chicago:20251202T140000
DTSTAMP:20260420T155147
CREATED:20251106T143139Z
LAST-MODIFIED:20251106T143306Z
UID:15336-1764680400-1764684000@www.nsca.org
SUMMARY:How Will AI Change Your Business in 2026?
DESCRIPTION:Integrators eager to unlock the potential of artificial intelligence should register to attend our upcoming live webinar\, entitled “How Will AI Change Your Business in 2026?”\, to gain insights from respected industry leaders who sit at the forefront of the Ai revolution. \n\n\n\nDan Ferrisi\, group director of content + editorial\, industrial + tech\, Emerald\, will moderate a dynamic discussion with Bill Fons\, president of AI initiatives and regional VP at CTI\, and Matt Thorne\, executive vice president at Electronic Contracting Company. \n\n\n\nJoin us on Tuesday\, December 2\, from 12pm to 1pm ET\, for a robust examination of the concrete ways that AI will alter\, disrupt and\, quite possibly\, improve your business in the year ahead. \n\n\n\nA collaboration between Commercial Integrator\, Security Sales & Integration and NSCA\, this live webinar promises to deliver invaluable perspectives on how AI is already revolutionizing the business landscape. \n\n\n\nBy attending this live\, webinar\, you’ll learn… \n\n\n\n\nAI Integration Best Practices: Discover strategies for implementing AI effectively within your organization\, including tips for starting small and gradually expanding AI capabilities.\n\n\n\nHow to Overcome Resistance: Learn how to navigate organizational challenges and foster a culture that embraces AI innovation.\n\n\n\nReal-World Insights: Hear first-hand accounts from our panelists about the triumphs and challenges they’ve faced in their AI journeys.\n\n\n\nStrategies for the Future: Gain insights into the evolving regulatory landscape and policies that could shape the future of AI in business.\n\n\n\n\nDon’t miss this opportunity to position your integration business at the forefront of AI innovation. \n\n\n\nRegister now to secure your spot and be part of a conversation that will continue to shape the future of our industry. \n\n\n\n\n\nPanelists \n\n\n\n\nBill FonsPresident of AI Initiatives and Regional VP\, CTI \n\n\n\nJoel Harris concurrently serves as the President of Solutions360. Over the past 20 years\, Joel has led company growth by ten-fold through equal parts of organizational improvement\, strategic transformation\, and acquisitions.  Joel is a veteran of the US Marine Corps and holds a BS in Civil Engineering from The Ohio State University\, an MBA from the University of North Carolina and completed Executive Education in New Product Development at MIT Sloan School of Management.  He has also worked in engineering and strategic consulting positions with Marathon Oil\, Ernst & Young\, LLP\, and Pfizer\, Inc.   \n\n\n\n\n\nMatt ThorneExecutive Vice President\, ECC \n\n\n\nChris Mounts is the Chief Financial Officer at FORTÉ (formerly AVI Systems)\, where he focuses on building the systems\, structure\, and clarity that enable sustainable business growth. He brings a proven track record of adding value to expanding organizations through improved accounting practices\, enhanced financial reporting\, operational efficiencies\, and strong internal controls. Chris’s approach emphasizes driving execution\, setting clear priorities\, and aligning financial strategy with long-term organizational goals. \n\n\n\n\n\nDan FerrisiGroup Editor\, Commercial and Security\, Emerald \n\n\n\nChris Mounts is the Chief Financial Officer at FORTÉ (formerly AVI Systems)\, where he focuses on building the systems\, structure\, and clarity that enable sustainable business growth. He brings a proven track record of adding value to expanding organizations through improved accounting practices\, enhanced financial reporting\, operational efficiencies\, and strong internal controls. Chris’s approach emphasizes driving execution\, setting clear priorities\, and aligning financial strategy with long-term organizational goals.
URL:https://www.nsca.org/events-calendar/how-will-ai-change-your-business-in-2026/
CATEGORIES:NSCA Webinar
ATTACH;FMTTYPE=image/png:https://www.nsca.org/wp-content/uploads/2025/11/12.2.25-CI_NSCA-Featured-Image.png
ORGANIZER;CN="Emerald":MAILTO:dana.mcclay@emeraldx.com
END:VEVENT
END:VCALENDAR