BEGIN:VCALENDAR
VERSION:2.0
PRODID:-//NSCA - ECPv6.15.20//NONSGML v1.0//EN
CALSCALE:GREGORIAN
METHOD:PUBLISH
X-ORIGINAL-URL:https://www.nsca.org
X-WR-CALDESC:Events for NSCA
REFRESH-INTERVAL;VALUE=DURATION:PT1H
X-Robots-Tag:noindex
X-PUBLISHED-TTL:PT1H
BEGIN:VTIMEZONE
TZID:America/Chicago
BEGIN:DAYLIGHT
TZOFFSETFROM:-0600
TZOFFSETTO:-0500
TZNAME:CDT
DTSTART:20250309T080000
END:DAYLIGHT
BEGIN:STANDARD
TZOFFSETFROM:-0500
TZOFFSETTO:-0600
TZNAME:CST
DTSTART:20251102T070000
END:STANDARD
BEGIN:DAYLIGHT
TZOFFSETFROM:-0600
TZOFFSETTO:-0500
TZNAME:CDT
DTSTART:20260308T080000
END:DAYLIGHT
BEGIN:STANDARD
TZOFFSETFROM:-0500
TZOFFSETTO:-0600
TZNAME:CST
DTSTART:20261101T070000
END:STANDARD
BEGIN:DAYLIGHT
TZOFFSETFROM:-0600
TZOFFSETTO:-0500
TZNAME:CDT
DTSTART:20270314T080000
END:DAYLIGHT
BEGIN:STANDARD
TZOFFSETFROM:-0500
TZOFFSETTO:-0600
TZNAME:CST
DTSTART:20271107T070000
END:STANDARD
END:VTIMEZONE
BEGIN:VEVENT
DTSTART;TZID=America/Chicago:20260324T110000
DTEND;TZID=America/Chicago:20260324T120000
DTSTAMP:20260420T093611
CREATED:20260130T165000Z
LAST-MODIFIED:20260130T171331Z
UID:16022-1774350000-1774353600@www.nsca.org
SUMMARY:Dr. Kuehl Spring 2026 Economic Update | What Integrators Should Be Watching in 2026
DESCRIPTION:NSCA members know that Dr. Chris Kuehl doesn’t pull punches. In today’s rapidly shifting economic environment\, integrators are navigating a complex mix of trade policy uncertainty\, inflation and interest rate questions\, global instability\, labor pressures\, and uneven market demand. Clear\, industry-specific insight has never been more important. \n\n\n\nNSCA’s Chief Economist returns with a sharp\, integrator–focused economic update designed specifically for the NSCA Community. Known for cutting through media noise\, he’ll focus on what current economic trends actually mean for integrators—and how they may influence business decisions in the months ahead. \n\n\n\nThis webinar builds on Dr. Kuehl’s annual in-person economic update delivered at NSCA’s 2026 Business & Leadership Conference\, recognizing that economic conditions are evolving quickly and that integrators benefit from timely course corrections. \n\n\n\nDuring this session\, Dr. Kuehl will provide insight on: \n\n\n\n\nThe real impact of tariffs and trade policy: How changes may affect product costs\, availability\, and manufacturing\n\n\n\nSupply chain conditions: Signs of stabilization—and where risks may still exist\n\n\n\nThe evolving labor landscape: Wage pressure\, workforce availability\, and productivity challenges\n\n\n\nCommercial construction outlook: What appears solid and where momentum may slow\n\n\n\nEmerging vertical markets: Sectors showing opportunity—and those facing headwinds\n\n\n\nGlobal conflicts and their ripple effects: What international instability means for U.S. integrators\n\n\n\nBusiness and consumer confidence: What sentiment trends suggest about technology investment\n\n\n\nLive Q&A with Dr. Kuehl: Bring your questions—he’s ready\n\n\n\n\nThis webinar also serves as a timely companion to a new NSCA member resource: the first integration industry–specific market research report produced by Armada\, Dr. Kuehl’s firm. Together\, the research and this update provide both data-driven insight and practical interpretation tailored to the integration industry. \n\n\n\nIf you’re looking for a clear\, no-spin assessment of how macroeconomic forces may shape your market in 2026\, this is an update you won’t want to miss.
URL:https://www.nsca.org/events-calendar/dr-kuehl-spring-2026-economic-update-what-integrators-should-be-watching-in-2026/
CATEGORIES:NSCA Webinar
ATTACH;FMTTYPE=image/png:https://www.nsca.org/wp-content/uploads/2026/01/DrK_Spring26_Webinar_Promo_1200x630.png
ORGANIZER;CN="NSCA":MAILTO:memberservices@nsca.org
END:VEVENT
END:VCALENDAR