BEGIN:VCALENDAR
VERSION:2.0
PRODID:-//NSCA - ECPv6.15.20//NONSGML v1.0//EN
CALSCALE:GREGORIAN
METHOD:PUBLISH
X-ORIGINAL-URL:https://www.nsca.org
X-WR-CALDESC:Events for NSCA
REFRESH-INTERVAL;VALUE=DURATION:PT1H
X-Robots-Tag:noindex
X-PUBLISHED-TTL:PT1H
BEGIN:VTIMEZONE
TZID:UTC
BEGIN:STANDARD
TZOFFSETFROM:+0000
TZOFFSETTO:+0000
TZNAME:UTC
DTSTART:20240101T000000
END:STANDARD
END:VTIMEZONE
BEGIN:VEVENT
DTSTART;VALUE=DATE:20251110
DTEND;VALUE=DATE:20251113
DTSTAMP:20260424T091746
CREATED:20250109T010630Z
LAST-MODIFIED:20250429T075257Z
UID:10653-1762732800-1762991999@www.nsca.org
SUMMARY:Total Tech Summit
DESCRIPTION:Total Tech Summit co-locates CE Pro Summit and Commercial Integrator Summit. This uniquely powerful hosted-style event drives extraordinary progress in the custom and commercial integration industries. It will host 150+ business leaders from the nation’s largest and most progressive integration companies to work on growing and improving their already superb companies. Our guests generated projected annual revenues of more than $6 billion and more than 250\,000 installations.\n\n\n\n\n\n\n\n\n\n\nTotal Tech Summit covers flights\, hotel\, meals and registration for business leaders of top companies as well as a top flight program of content and structured peer networking.\n\n\n\n\nIn recognition of these benefits\, guests agree contractually to attend the Summit from start to finish and follow a customized itinerary that includes scheduled meetings with sponsors. Primary benefits for guests include sourcing peer-tested ideas of how to grow their companies through process improvement and product/market mix evolution.
URL:https://www.nsca.org/events-calendar/total-tech-summit-2/
LOCATION:Renaissance Orlando at SeaWorld\, 6677 Sea Harbor Dr\, Orlando\, FL\, 32821\, United States
CATEGORIES:Industry Event
ATTACH;FMTTYPE=image/png:https://www.nsca.org/wp-content/uploads/2024/07/TTS_no-year.png
ORGANIZER;CN="Emerald":MAILTO:dana.mcclay@emeraldx.com
END:VEVENT
END:VCALENDAR